BEGIN:VCALENDAR
VERSION:2.0
PRODID:-//GRÜNE Oberaargau - ECPv6.15.15//NONSGML v1.0//EN
CALSCALE:GREGORIAN
METHOD:PUBLISH
X-WR-CALNAME:GRÜNE Oberaargau
X-ORIGINAL-URL:https://gruene-oberaargau.ch
X-WR-CALDESC:Veranstaltungen für GRÜNE Oberaargau
REFRESH-INTERVAL;VALUE=DURATION:PT1H
X-Robots-Tag:noindex
X-PUBLISHED-TTL:PT1H
BEGIN:VTIMEZONE
TZID:Europe/Zurich
BEGIN:DAYLIGHT
TZOFFSETFROM:+0100
TZOFFSETTO:+0200
TZNAME:CEST
DTSTART:20220327T010000
END:DAYLIGHT
BEGIN:STANDARD
TZOFFSETFROM:+0200
TZOFFSETTO:+0100
TZNAME:CET
DTSTART:20221030T010000
END:STANDARD
BEGIN:DAYLIGHT
TZOFFSETFROM:+0100
TZOFFSETTO:+0200
TZNAME:CEST
DTSTART:20230326T010000
END:DAYLIGHT
BEGIN:STANDARD
TZOFFSETFROM:+0200
TZOFFSETTO:+0100
TZNAME:CET
DTSTART:20231029T010000
END:STANDARD
BEGIN:DAYLIGHT
TZOFFSETFROM:+0100
TZOFFSETTO:+0200
TZNAME:CEST
DTSTART:20240331T010000
END:DAYLIGHT
BEGIN:STANDARD
TZOFFSETFROM:+0200
TZOFFSETTO:+0100
TZNAME:CET
DTSTART:20241027T010000
END:STANDARD
END:VTIMEZONE
BEGIN:VEVENT
DTSTART;TZID=Europe/Zurich:20230928T070000
DTEND;TZID=Europe/Zurich:20230928T083000
DTSTAMP:20260424T114944
CREATED:20230927T203713Z
LAST-MODIFIED:20230927T203713Z
UID:4815-1695884400-1695889800@gruene-oberaargau.ch
SUMMARY:Verteilaktion
DESCRIPTION:
URL:https://gruene-oberaargau.ch/event/verteilaktion
LOCATION:Herzogenbuchsee\, Bahnhof\, Bahnhof\, Bern
END:VEVENT
END:VCALENDAR